{
 "currentVersion": 10.5,
 "serviceDescription": "省级公益林",
 "mapName": "Layers",
 "description": "",
 "copyrightText": "",
 "supportsDynamicLayers": true,
 "layers": [
  {
   "id": 0,
   "name": "shanweisde.sde.ONEMAP",
   "parentLayerId": -1,
   "defaultVisibility": true,
   "subLayerIds": null,
   "minScale": 0,
   "maxScale": 0
  }
 ],
 "tables": [],
 "spatialReference": {
  "wkid": 4490,
  "latestWkid": 4490
 },
 "singleFusedMapCache": true,
 "tileInfo": {
  "rows": 256,
  "cols": 256,
  "dpi": 96,
  "format": "PNG",
  "compressionQuality": 0,
  "origin": {
   "x": -400,
   "y": 399.9999999999998
  },
  "spatialReference": {
   "wkid": 4490,
   "latestWkid": 4490
  },
  "lods": [
   {
    "level": 0,
    "resolution": 0.00237946100583028,
    "scale": 1000000
   },
   {
    "level": 1,
    "resolution": 0.00118973050291514,
    "scale": 500000
   },
   {
    "level": 2,
    "resolution": 5.9486525145757E-4,
    "scale": 250000
   },
   {
    "level": 3,
    "resolution": 2.97432625728785E-4,
    "scale": 125000
   },
   {
    "level": 4,
    "resolution": 1.5228550437313792E-4,
    "scale": 64000
   },
   {
    "level": 5,
    "resolution": 7.614275218656896E-5,
    "scale": 32000
   },
   {
    "level": 6,
    "resolution": 3.807137609328448E-5,
    "scale": 16000
   },
   {
    "level": 7,
    "resolution": 1.903568804664224E-5,
    "scale": 8000
   },
   {
    "level": 8,
    "resolution": 9.51784402332112E-6,
    "scale": 4000
   },
   {
    "level": 9,
    "resolution": 4.75892201166056E-6,
    "scale": 2000
   }
  ]
 },
 "initialExtent": {
  "xmin": 114.84230939674694,
  "ymin": 22.9024837614715,
  "xmax": 116.29212852025307,
  "ymax": 23.518474488999978,
  "spatialReference": {
   "cs": "gcs",
   "wkid": 4490
  }
 },
 "fullExtent": {
  "xmin": 114.91332931900001,
  "ymin": 22.628031039999996,
  "xmax": 116.221108598,
  "ymax": 23.47607241999998,
  "spatialReference": {
   "cs": "gcs",
   "wkid": 4490
  }
 },
 "minScale": 1000000,
 "maxScale": 4000,
 "units": "esriDecimalDegrees",
 "supportedImageFormatTypes": "PNG32,PNG24,PNG,JPG,DIB,TIFF,EMF,PS,PDF,GIF,SVG,SVGZ,BMP",
 "documentInfo": {
  "Title": "",
  "Author": "",
  "Comments": "公益林商品林",
  "Subject": "公益林商品林",
  "Category": "",
  "AntialiasingMode": "None",
  "TextAntialiasingMode": "Force",
  "Keywords": "省级公益林"
 },
 "capabilities": "Map,Query,Data",
 "supportedQueryFormats": "JSON, AMF, geoJSON",
 "exportTilesAllowed": false,
 "supportsDatumTransformation": true,
 "maxRecordCount": 1000,
 "maxImageHeight": 4096,
 "maxImageWidth": 4096,
 "supportedExtensions": ""
}
